BEGIN:VCALENDAR
VERSION:2.0
PRODID:-//wp-events-plugin.com//7.2.3.1//EN
TZID:Europe/Paris
X-WR-TIMEZONE:Europe/Paris
BEGIN:VEVENT
UID:214@cabplongee.fr
DTSTART;TZID=Europe/Paris:20220903T140000
DTEND;TZID=Europe/Paris:20220903T180000
DTSTAMP:20220422T073903Z
URL:https://www.cabplongee.fr/events/forum-des-associations-de-cabries/
SUMMARY:Forum des associations de Cabriès
DESCRIPTION:
LOCATION:COSEC - Local du club\, Avenue Raymond Martin \, Cabriès\, 13480\
 , France
X-APPLE-STRUCTURED-LOCATION;VALUE=URI;X-ADDRESS=Avenue Raymond Martin \, Ca
 briès\, 13480\, France;X-APPLE-RADIUS=100;X-TITLE=COSEC - Local du club:g
 eo:0,0
END:VEVENT
BEGIN:VTIMEZONE
TZID:Europe/Paris
X-LIC-LOCATION:Europe/Paris
BEGIN:DAYLIGHT
DTSTART:20220327T030000
TZOFFSETFROM:+0100
TZOFFSETTO:+0200
TZNAME:CEST
END:DAYLIGHT
END:VTIMEZONE
END:VCALENDAR