BEGIN:VCALENDAR
VERSION:2.0
PRODID:-//wp-events-plugin.com//7.2.3.1//EN
TZID:Europe/Paris
X-WR-TIMEZONE:Europe/Paris
BEGIN:VEVENT
UID:276@cabplongee.fr
DTSTART;TZID=Europe/Paris:20220807T133000
DTEND;TZID=Europe/Paris:20220807T173000
DTSTAMP:20220805T144328Z
URL:https://www.cabplongee.fr/events/plongee-bateau-dimanche-7-aout-am/
SUMMARY:Plongée bateau - Dimanche 7 Aout - Après midi
DESCRIPTION:Plongée à partir du niveau 1 acquis
LOCATION:Cote Bleue Plongée\, Avenue Albert Camus\, Sausset les pins\, 139
 60\, France
X-APPLE-STRUCTURED-LOCATION;VALUE=URI;X-ADDRESS=Avenue Albert Camus\, Sauss
 et les pins\, 13960\, France;X-APPLE-RADIUS=100;X-TITLE=Cote Bleue Plongé
 e:geo:0,0
END:VEVENT
BEGIN:VTIMEZONE
TZID:Europe/Paris
X-LIC-LOCATION:Europe/Paris
BEGIN:DAYLIGHT
DTSTART:20220327T030000
TZOFFSETFROM:+0100
TZOFFSETTO:+0200
TZNAME:CEST
END:DAYLIGHT
END:VTIMEZONE
END:VCALENDAR