BEGIN:VCALENDAR
VERSION:2.0
PRODID:-//wp-events-plugin.com//7.2.3.1//EN
TZID:Europe/Paris
X-WR-TIMEZONE:Europe/Paris
BEGIN:VEVENT
UID:217@cabplongee.fr
DTSTART;TZID=Europe/Paris:20220430T083000
DTEND;TZID=Europe/Paris:20220430T120000
DTSTAMP:20220424T173236Z
URL:https://www.cabplongee.fr/events/plongee-bateau-samedi-30-avril/
SUMMARY:Plongée bateau - Samedi 30 avril matin
DESCRIPTION:Plongée ouverte en priorité aux autonomes et niveau 2.\n&nbsp
 \;
CATEGORIES:N2,N3,N4
LOCATION:GRASM Plongée\, Anse du Pharo\, Marseille\, 13000\, France
X-APPLE-STRUCTURED-LOCATION;VALUE=URI;X-ADDRESS=Anse du Pharo\, Marseille\,
  13000\, France;X-APPLE-RADIUS=100;X-TITLE=GRASM Plongée:geo:0,0
END:VEVENT
BEGIN:VTIMEZONE
TZID:Europe/Paris
X-LIC-LOCATION:Europe/Paris
BEGIN:DAYLIGHT
DTSTART:20220327T030000
TZOFFSETFROM:+0100
TZOFFSETTO:+0200
TZNAME:CEST
END:DAYLIGHT
END:VTIMEZONE
END:VCALENDAR