BEGIN:VCALENDAR
VERSION:2.0
PRODID:-//wp-events-plugin.com//7.2.3.1//EN
TZID:Europe/Paris
X-WR-TIMEZONE:Europe/Paris
BEGIN:VEVENT
UID:215@cabplongee.fr
DTSTART;TZID=Europe/Paris:20220910T080000
DTEND;TZID=Europe/Paris:20220910T190000
DTSTAMP:20220422T074042Z
URL:https://www.cabplongee.fr/events/vitalsport/
SUMMARY:VitalSport
DESCRIPTION:
LOCATION:Décathlon Bouc Bel Air\, La Petite Bastide\, Bouc Bel Air\, 13320
 \, France
X-APPLE-STRUCTURED-LOCATION;VALUE=URI;X-ADDRESS=La Petite Bastide\, Bouc Be
 l Air\, 13320\, France;X-APPLE-RADIUS=100;X-TITLE=Décathlon Bouc Bel Air:
 geo:0,0
END:VEVENT
BEGIN:VTIMEZONE
TZID:Europe/Paris
X-LIC-LOCATION:Europe/Paris
BEGIN:DAYLIGHT
DTSTART:20220327T030000
TZOFFSETFROM:+0100
TZOFFSETTO:+0200
TZNAME:CEST
END:DAYLIGHT
END:VTIMEZONE
END:VCALENDAR